BEGIN:VCALENDAR
VERSION:2.0
PRODID:spatie/icalendar-generator
DESCRIPTION:Events from Best CBSE School in Gachibowli\, Nanakramguda | Kai
 ros International School.
X-WR-CALDESC:Events from Best CBSE School in Gachibowli\, Nanakramguda | Ka
 iros International School.
REFRESH-INTERVAL;VALUE=DURATION:PT1440M
X-PUBLISHED-TTL:PT1440M
BEGIN:VTIMEZONE
TZID:Etc/GMT+0
BEGIN:STANDARD
DTSTART:20220422T000000Z
TZOFFSETFROM:+0000
TZOFFSETTO:+0000
END:STANDARD
END:VTIMEZONE
BEGIN:VTIMEZONE
TZID:UTC
BEGIN:STANDARD
DTSTART:20250724T091236Z
TZOFFSETFROM:+0000
TZOFFSETTO:+0000
END:STANDARD
END:VTIMEZONE
BEGIN:VEVENT
UID:42-41
DTSTAMP:20260420T091236Z
SUMMARY:Sankranti holidays
LOCATION:
ORGANIZER;CN=Kairos:MAILTO:madhu.keyblocks@gmail.com
DTSTART;TZID=Etc/GMT+0:20230117T000000
DTEND;TZID=Etc/GMT+0:20230117T010000
X-ALT-DESC;FMTTYPE=TEXT/HTML:
CATEGORIES:General
URL;VALUE=URI:https://kairosinternationalschool.com/mc-events/sankranti-hol
 idays-3/
METHOD:PUBLISH
END:VEVENT
END:VCALENDAR